BEGIN:VCALENDAR
VERSION:2.0
PRODID:-//Tukios.com/
BEGIN:VEVENT
UID:8e3eeddb-58cf-4976-971c-67deaf9d8ce0@www.crouchfuneralhome.com
DTSTAMP:20260422T233417Z
DTSTART:20260427T140000Z
DTEND:20260427T150000Z
SUMMARY:Viewing
DESCRIPTION:
URL:https://www.crouchfuneralhome.com/obituaries/charles-brewer
LOCATION:Crouch Funeral Home, P.A. 127 South Main Street  North East MD 
	21901
GEO:39.5986397;-75.9426671
END:VEVENT
END:VCALENDAR