BEGIN:VCALENDAR
VERSION:2.0
PRODID:-//Tukios.com/
BEGIN:VEVENT
UID:7884acd8-33a8-4e14-a4f2-c35cb7054549@www.crouchfuneralhome.com
DTSTAMP:20260422T233556Z
DTSTART:20260427T150000Z
DTEND:20260427T160000Z
SUMMARY:Funeral Service
DESCRIPTION:
URL:https://www.crouchfuneralhome.com/obituaries/charles-brewer
LOCATION:Crouch Funeral Home, P.A. 127 South Main Street  North East MD 
	21901
GEO:39.5986397;-75.9426671
END:VEVENT
END:VCALENDAR